BEGIN:VCALENDAR
PRODID:-//AT Content Types//AT Event//EN
VERSION:2.0
METHOD:PUBLISH
BEGIN:VEVENT
DTSTAMP:20210427T203630Z
CREATED:20210402T163702Z
UID:ATEvent-6d59cf87f9904e839db40e3d9633e406
LAST-MODIFIED:20210402T163717Z
SUMMARY:Check It Out! April Webinar (CE)
DTSTART:20210427T160000Z
DTEND:20210427T170000Z
DESCRIPTION:Join us each month for this webinar series spotlighting th
 e best new books for ages 0-18.
LOCATION:Online
CONTACT:Angie Manfredi\, angie.manfredi@iowa.gov
CLASS:PUBLIC
END:VEVENT
END:VCALENDAR
