BEGIN:VCALENDAR
PRODID:-//AT Content Types//AT Event//EN
VERSION:2.0
METHOD:PUBLISH
BEGIN:VEVENT
DTSTAMP:20210427T203614Z
CREATED:20210318T214900Z
UID:ATEvent-7a73f06bd43c42b79d1596db6ec97d13
LAST-MODIFIED:20210318T214903Z
SUMMARY:Earth’s Bounty in Iowa: Then & Now (Webinar)
DTSTART:20210423T000000Z
DTEND:20210423T013000Z
DESCRIPTION:Join us for an online discussion with a professor of histo
 ry and a farmer storyteller\, who will speak on the state’s rich his
 tory of agriculture along with the modern challenges and triumphs of f
 arming in Iowa.
LOCATION:Online
CONTACT:Helen Dagley\, helen.dagley@iowa.gov
CLASS:PUBLIC
END:VEVENT
END:VCALENDAR
