BEGIN:VCALENDAR
PRODID:-//AT Content Types//AT Event//EN
VERSION:1.0
BEGIN:VEVENT
DTSTART:20210430T050000Z
DTEND:20210501T045500Z
DCREATED:20210114T220944Z
UID:ATEvent-de9c86efc25143cf962422688079ebcc
SEQUENCE:0
LAST-MODIFIED:20210309T212502Z
SUMMARY:DEADLINE: Enrich Iowa Letters of Agreement Due
DESCRIPTION:Libraries must submit a Letter of Agreement to participate
  in Enrich Iowa and receive funding from Direct State Aid\, Open Acces
 s Reimbursement\, and/or Interlibrary Loan Reimbursement for the next 
 fiscal year.
PRIORITY:3
TRANSP:0
END:VEVENT
END:VCALENDAR
