BEGIN:VCALENDAR
PRODID:-//AT Content Types//AT Event//EN
VERSION:1.0
BEGIN:VEVENT
DTSTART:20210428T180000Z
DTEND:20210428T190000Z
DCREATED:20210212T214652Z
UID:ATEvent-1762b983af4a4cfdb1df8c8fb5c21138
SEQUENCE:0
LAST-MODIFIED:20210212T214655Z
SUMMARY:Screen Readers in Your Library
DESCRIPTION:In collaboration with the Iowa Library for the Blind and P
 rint Disabled\, information about screen readers and how they can be i
 nstalled on public computers.
LOCATION:Online
PRIORITY:3
TRANSP:0
END:VEVENT
END:VCALENDAR
