BEGIN:VCALENDAR
PRODID:-//AT Content Types//AT Event//EN
VERSION:2.0
METHOD:PUBLISH
BEGIN:VEVENT
DTSTAMP:20210428T032651Z
CREATED:20210402T163834Z
UID:ATEvent-2c8fb1203b0b4f988229c329b6abb479
LAST-MODIFIED:20210402T163907Z
SUMMARY:Check It Out! June Webinar (CE)
DTSTART:20210622T160000Z
DTEND:20210622T170000Z
DESCRIPTION:Join us each month for this webinar series spotlighting th
 e best new books for ages 0-18.
LOCATION:Online
CONTACT:Angie Manfredi\, angie.manfredi@iowa.gov
CLASS:PUBLIC
END:VEVENT
END:VCALENDAR
