BEGIN:VCALENDAR
PRODID:-//AT Content Types//AT Event//EN
VERSION:1.0
BEGIN:VEVENT
DTSTART:20210521T143000Z
DTEND:20210521T160000Z
DCREATED:20210326T211231Z
UID:ATEvent-ef2b1b3dcf674a8bb470653feacd2444
SEQUENCE:0
LAST-MODIFIED:20210326T211237Z
SUMMARY:Big Ideas Book Discussion (May 2021): Inspiring Library Stories (CE)
DESCRIPTION:In Big Ideas Book Discussions\, State Library staff and gu
 est stars facilitate discussions using books outside of library manage
 ment\, but with plenty of application to library management.
LOCATION:Online
PRIORITY:3
TRANSP:0
END:VEVENT
END:VCALENDAR
