BEGIN:VCALENDAR
PRODID:-//AT Content Types//AT Event//EN
VERSION:1.0
BEGIN:VEVENT
DTSTART:20210525T230000Z
DTEND:20210526T003000Z
DCREATED:20210326T211445Z
UID:ATEvent-e0f683a0d72b46d4a309e0f7115a075e
SEQUENCE:0
LAST-MODIFIED:20210326T211450Z
SUMMARY:Boardroom Series 2021 | Inspire Your Community With Inspiring Stories (CE)
DESCRIPTION:This year’s Boardroom webinars bring in concepts from a 
 variety of books\, as we connect the books’ ideas to the business of
  library boards.
LOCATION:Online
PRIORITY:3
TRANSP:0
END:VEVENT
END:VCALENDAR
