BEGIN:VCALENDAR
PRODID:-//AT Content Types//AT Event//EN
VERSION:2.0
METHOD:PUBLISH
BEGIN:VEVENT
DTSTAMP:20210428T032529Z
CREATED:20210402T163733Z
UID:ATEvent-3b71690273154ed7ba50d6b1ce3f7f6f
LAST-MODIFIED:20210402T163821Z
SUMMARY:Check It Out! May Webinar (CE)
DTSTART:20210525T160000Z
DTEND:20210525T170000Z
DESCRIPTION:Join us each month for this webinar series spotlighting th
 e best new books for ages 0-18.
LOCATION:Online
CONTACT:Angie Manfredi\, angie.manfredi@iowa.gov
CLASS:PUBLIC
END:VEVENT
END:VCALENDAR
