BEGIN:VCALENDAR
PRODID:-//AT Content Types//AT Event//EN
VERSION:1.0
BEGIN:VEVENT
DTSTART:20210514T150000Z
DTEND:20210514T190000Z
DCREATED:20210114T220944Z
UID:ATEvent-0d4bfa70fc1343359638abd827ceb6e2
SEQUENCE:0
LAST-MODIFIED:20210402T164241Z
SUMMARY:Iowa Commission of Libraries Meeting
DESCRIPTION:The Iowa Commission of Libraries will meet from 10:00 a.m.
  to 2:00 p.m. online.
LOCATION:Online
PRIORITY:3
TRANSP:0
END:VEVENT
END:VCALENDAR
