BEGIN:VCALENDAR
PRODID:-//AT Content Types//AT Event//EN
VERSION:2.0
METHOD:PUBLISH
BEGIN:VEVENT
DTSTAMP:20210428T032609Z
CREATED:20210114T220944Z
UID:ATEvent-f0287e87ddff4f5eab33cb19bd1d9115
LAST-MODIFIED:20210114T225656Z
SUMMARY:Holiday Closure: Memorial Day
DTSTART:20210531T050000Z
DTEND:20210601T045500Z
DESCRIPTION:Offices will be closed May 31 for Memorial Day.
CLASS:PUBLIC
END:VEVENT
END:VCALENDAR
